BEGIN:VCALENDAR
VERSION:2.0
PRODID:-//BeGlobal - ECPv6.3.5//NONSGML v1.0//EN
CALSCALE:GREGORIAN
METHOD:PUBLISH
X-WR-CALNAME:BeGlobal
X-ORIGINAL-URL:https://beglobal.nu
X-WR-CALDESC:Events for BeGlobal
REFRESH-INTERVAL;VALUE=DURATION:PT1H
X-Robots-Tag:noindex
X-PUBLISHED-TTL:PT1H
BEGIN:VTIMEZONE
TZID:Europe/Stockholm
BEGIN:DAYLIGHT
TZOFFSETFROM:+0100
TZOFFSETTO:+0200
TZNAME:CEST
DTSTART:20260329T010000
END:DAYLIGHT
BEGIN:STANDARD
TZOFFSETFROM:+0200
TZOFFSETTO:+0100
TZNAME:CET
DTSTART:20261025T010000
END:STANDARD
END:VTIMEZONE
BEGIN:VEVENT
DTSTART;TZID=Europe/Stockholm:20260421T090000
DTEND;TZID=Europe/Stockholm:20260421T160000
DTSTAMP:20260421T145830
CREATED:20260320T080614Z
LAST-MODIFIED:20260320T080614Z
UID:3155-1776762000-1776787200@beglobal.nu
SUMMARY:Workshop 21/4 Ta din e-handel ut i världen!
DESCRIPTION:[vc_row][vc_column][vc_row_inner][vc_column_inner][vc_column_text]Är du ett litet eller medelstort företag som säljer fysiska varor online till konsumenter (B2C) och vill optimera din e-handel för att växa på internationella marknader? Då är denna workshop perfekt för dig! \nUnder denna heldag får du insikter och verktyg för att lyckas som en internationell e-handelsaktör. Vi går igenom hur du kan göra din e-handel mer attraktiv och tillgänglig för kunder globalt\, vilka lagar och regler du behöver ha koll på och hur du skapar en strategi för försäljning och marknadsföring som ger resultat på nya marknader. \nDagen leds av experter från Business Sweden\, med lång erfarenhet av internationell e-handel och av att hjälpa företag att växa på globala marknader. \nDu erbjuds dessutom efterföljande individuell rådgivning med våra experter som bokas efter kurstillfället. \nNär: 21 april kl. 09:00–16:00 (kaffe och mingel från kl. 08:30) Vi bjuder på lunch!\nVar: Almi Småland och öarna\, Barlastplan 4\, Kalmar\nKostnad: För företag inom Beglobal är workshopen kostnadsfri. Övriga betalar 2 500 kr exkl. moms per person. Max två personer per företag. \nMålgrupp\nFöretag och entreprenörer som säljer fysiska varor online mot konsumenter (B2C) och som vill optimera sin e-handel internationellt mot nya marknader. \nWorkshopen arrangeras och finansieras av projektet Beglobal www.beglobal.nu[/vc_column_text][/vc_column_inner][/vc_row_inner][vc_btn title=”Anmäl dig här” el_class=”lpd_vc_btn lpd_vc_btn-animated” link=”url:https%3A%2F%2Fwww.almi.se%2Fkunskap-och-inspiration%2Fkalender%2Fworkshop-214-ta-din-e-handel-ut-i-varlden%2F|||”][vc_column_text]PROGRAMINNEHÅLL: \nBLOCK 1: LAGAR OCH REGLER \nDu får bl.a. lära dig; \nOm exportprocessen och den praktiska hanteringen när man ska sälja online mot andra marknader. Vilka krav man kan behöva förhålla sig till. \nHur man ska tänka vid e-handel då man säljer inom EU respektive utanför EU med belysande exempel från några nyckelmarknader. \nVad man juridiskt behöver beakta i samband med e-handel mot konsumenter på andra marknader. Särskilt fokus kommer att läggas på produktkraven för konsumentprodukter\, då många nya lagar och regler dykt upp på senare tiden för B2C och e-handel. \nEx på specifika områden som tas upp i detta block: \n\nProduktkrav (bl.a. om innebörden av nya GPSR\, Producentansvaret och återvinningsregler mm.)\nEtablerings- och registreringskrav\nTullar\, moms och dokumenthantering\nLogistik och leveransvillkor\nE-handelsjuridik\n\nBLOCK 2: SÄLJSTRATEGI OCH MARKNADSFÖRING \nDu får bl.a. lära dig \nHur man kan vässa sin digitala säljstrategi så den anpassas lokalt för varje marknad och målgrupp lokalt med belysande exempel. \nVad skillnaden är mellan att sälja via egen webshop vs på en online marknadsplatser och hur man bör tänka kring kanalval internationellt. \nOm varumärkesuppbyggande och kundrelationen internationellt. \nEx på specifika områden som tas upp i detta block: \n\nDigitala sälj- och marknadsföringskanaler\nLokalanpassning av innehåll och erbjudande\nBetallösningar och valuta\nKundrelationen\nLeveranser och returer\n\n  \nEXPERTER/KURSLEDARE \nLinda Laszlo Ek och Erik Törnqvist är båda experter\, rådgivare och föreläsare inom internationell handel och exporttekniska frågor på Business Sweden. \nLinda Laszlo Ek\, Business Sweden \nLinda har mer än 20 års erfarenhet av internationell handel och arbetar idag som senior rådgivare och e-handels-expert på Business Sweden\, där hon hjälper företag med både strategisk vägledning och praktiskt stöd i hur man kan skala upp sin e-handel och optimera sin internationella expansion online. Linda har en bakgrund som affärsjurist och är en flitigt anlitad föreläsare och kursledare. \nErik Törnqvist\, Business Sweden \nErik Törnqvist arbetar som rådgivare på Business Swedens exporttekniska avdelning. Erik har mer än 5 års erfarenhet inom internationell handel\, bl.a. med operativt arbete på ett globalt start-up\, med fokus på e-handel och globalt sälj. Idag hjälper och stöttar han företag med den praktiska hanteringen av export\, med fokus på SME:s som vill ut på nya marknader. \nARRANGÖRER \nAktiviteten arrangeras inom Beglobal (www.beglobal.nu)\, ett projekt där Enterprise Europe Network (EEN)\, Business Sweden\, EKN\, Almi\, Handelskammaren samt regionerna i Småland och på Gotland erbjuder fördjupad exportsupport för att utveckla företagens exportaffärer.\nProjektet finansieras av Almi\, regionerna och EU:s regionala utvecklingsfond.[/vc_column_text][/vc_column][/vc_row]
URL:https://beglobal.nu/event/21-4-workshop-ta-din-e-handel-ut-i-varlden/
LOCATION:Almi Kalmar\, Barlastplan 4\, Kalmar\, Sweden
END:VEVENT
BEGIN:VEVENT
DTSTART;TZID=Europe/Stockholm:20260429T073000
DTEND;TZID=Europe/Stockholm:20260429T090000
DTSTAMP:20260421T145830
CREATED:20260408T073345Z
LAST-MODIFIED:20260408T073345Z
UID:3161-1777447800-1777453200@beglobal.nu
SUMMARY:29/4 Exportfrukost hos Annika Gustavsson Jewellery
DESCRIPTION:[vc_row][vc_column][vc_row_inner][vc_column_inner][vc_column_text]Välkommen till en inspirerande exportfrukost med start i Annika Gustavsson Jewellerys smedja – där hantverk\, design och målmedvetet arbete för tillväxt och export möts. \nÄr du nyfiken på att ta dina produkter ut i världen? Under denna morgon får du följa Annika Gustavsson Jewellerys företagsresa och ta del av hur de arbetat strukturerat och långsiktigt med planläggning för att stegvis öka sin export. Efter besöket i smedjan förflyttar vi oss till Strand Hotel\, där morgonen avslutas med gemensam frukost. Här finns gott om tid för samtal\, erfarenhetsutbyte och nätverkande med andra företag som är nyfikna på eller redan är i gång med export. \nAlmi finns på plats och berättar kort om Beglobal\, www.beglobal.nu – en accelerator för företag som vill växa internationellt. \nNär? Onsdag 29 april kl. 07.30–09.00\nVar? Start hos Annika Gustavsson Jewellerys smedja\, avslut med frukost på Strand Hotel\nVi bjuder på frukost. \nVarmt välkommen![/vc_column_text][/vc_column_inner][/vc_row_inner][vc_btn title=”Anmäl dig här” el_class=”lpd_vc_btn lpd_vc_btn-animated” link=”url:https%3A%2F%2Fwww.almi.se%2Fkunskap-och-inspiration%2Fkalender%2Fexportfrukost-hos-annika-gustavsson-jewellery%2F|||”][vc_column_text]För vem? \nFrukostträffen vänder sig till dig som funderar på att börja exportera eller som redan har internationella kunder och vill ta nästa steg. Här får du inspiration\, konkreta exempel och möjlighet att knyta nya kontakter. \nExportfrukosten arrangeras av projektet Beglobal. Ta chansen att få med dig insikter och inspiration som kan hjälpa ditt företag att växa utanför Sveriges gränser. \nOm Beglobal \nBeglobal är en unik satsning för att stärka företagens exportaffärer i Jönköpings\, Kalmar\, Kronobergs och Gotlands län. Genom partners som Enterprise Europe Network\, Business Sweden\, EKN\, Almi\, Handelskammaren Jönköpings län och våra fyra regioner får företag tillgång till samlad kompetens och ett praktiskt exportstöd. \nFinansieras av Almi\, regionerna och EU:s regionala utvecklingsfond. \n[/vc_column_text][/vc_column][/vc_row]
URL:https://beglobal.nu/event/29-4-exportfrukost-hos-annika-gustavsson-jewellery/
LOCATION:Sankt Hansgatan 26\, Visby\, Sweden
END:VEVENT
END:VCALENDAR